BEGIN:VCALENDAR
VERSION:2.0
PRODID:-//Rossland Arts Council - ECPv6.15.11//NONSGML v1.0//EN
CALSCALE:GREGORIAN
METHOD:PUBLISH
X-ORIGINAL-URL:https://rosslandartscouncil.com
X-WR-CALDESC:Events for Rossland Arts Council
REFRESH-INTERVAL;VALUE=DURATION:PT1H
X-Robots-Tag:noindex
X-PUBLISHED-TTL:PT1H
BEGIN:VTIMEZONE
TZID:America/Vancouver
BEGIN:DAYLIGHT
TZOFFSETFROM:-0800
TZOFFSETTO:-0700
TZNAME:PDT
DTSTART:20250309T100000
END:DAYLIGHT
BEGIN:STANDARD
TZOFFSETFROM:-0700
TZOFFSETTO:-0800
TZNAME:PST
DTSTART:20251102T090000
END:STANDARD
BEGIN:DAYLIGHT
TZOFFSETFROM:-0800
TZOFFSETTO:-0700
TZNAME:PDT
DTSTART:20260308T100000
END:DAYLIGHT
BEGIN:STANDARD
TZOFFSETFROM:-0700
TZOFFSETTO:-0800
TZNAME:PST
DTSTART:20261101T090000
END:STANDARD
BEGIN:DAYLIGHT
TZOFFSETFROM:-0800
TZOFFSETTO:-0700
TZNAME:PDT
DTSTART:20270314T100000
END:DAYLIGHT
BEGIN:STANDARD
TZOFFSETFROM:-0700
TZOFFSETTO:-0800
TZNAME:PST
DTSTART:20271107T090000
END:STANDARD
END:VTIMEZONE
BEGIN:VEVENT
DTSTART;TZID=America/Vancouver:20260523T191500
DTEND;TZID=America/Vancouver:20260523T220000
DTSTAMP:20260421T013918
CREATED:20260302T224704Z
LAST-MODIFIED:20260409T202402Z
UID:6436-1779563700-1779573600@rosslandartscouncil.com
SUMMARY:Tonye Aganaba
DESCRIPTION:The Re-scheduled Performance of Tonye Aganaba! \nSaturday\, May 23rd\, 2025 at 7:15pm\nRossland Miners Hall Performance Hall\nLength: 2 x 45-minute sets with a 15-minute intermission in between\nConcession & Bar preshow\, intermission and postshow. Licensed. \nAfter having to cancel their performance in Rossland during Blizzard Music Festival 2026\, we have some amazing news: Tonye Aganaba is officially coming to Rossland this May to play in the RCAC’s new series\, May Music & More! \nTonye Aganaba is a Black African queer\, disabled and non-binary immigrant and uninvited settler living on the unceded ancestral territories of the Musqueam\, Squamish & Tsleil-Waututh First Nations. \nThey were born in London\, England – the belly of the beast and the stronghold of imperialism\, colonialism and racial capitalism\, and immigrated to so-called Canada at the age of 13. They proudly trace their ancestral line to the lands known today as Nigeria and Zimbabwe. \nTonye is an interdisciplinary artist and musician – and their style is dynamic and fluid – weaving playful threads of Soul\, Neo-Folk\, Funk\, Hip-Hop and R&B. \nTheir shows\, gatherings\, and workshops are connected and intimate experiences\, and evoke a kind of vulnerability that we all hunger for. They are a steadfast fixture in their local arts community – and a passionate and political being. \nWhen they’re not on stage or in the studio – they’re actively unlearning and re-learning as a community worker and organizer working in solidarity with oppressed peoples and in defense of the planet\, in an eﬀort to decolonize body\, mind\, spirit and space. You can find them organizing with Defund 604 Network\, Community Accountability Project\, Ethos Lab\, and Cops Out Of Schools – four collectives based in so-called Vancouver that are dedicated to creating safe and healthy spaces for all. \nTake a taste of their talent below:  \nhttps://www.tonyemusic.com/ \n Tonye – Villain (Official Audio) \n Tonye Aganaba – We Ain’t Friends LIVE at Blue Light Sessions \nThis performance is a collaboration between the Rossland Council for Arts and Culture and Blizzard Music Festival. \nAll tickets bought for the cancelled performance in January are valid for this show\, including 2025/2026 Performance Series Seasons Passes.
URL:https://rosslandartscouncil.com/event/tonye-aganaba-2/
LOCATION:Performance Hall\, Miners’ Hall\, 1765 Columbia Ave\, Rossland\, BC\, V0G 1Y0\, Canada
ATTACH;FMTTYPE=image/png:https://rosslandartscouncil.com/wp-content/uploads/2025/07/Tonye.png
ORGANIZER;CN="Rossland Council for Arts & Culture":MAILTO:info@rosslandartscouncil.com
END:VEVENT
BEGIN:VEVENT
DTSTART;TZID=America/Vancouver:20260524T190000
DTEND;TZID=America/Vancouver:20260524T203000
DTSTAMP:20260421T013918
CREATED:20250924T073958Z
LAST-MODIFIED:20250924T073958Z
UID:5682-1779649200-1779654600@rosslandartscouncil.com
SUMMARY:Joe Hill Coffeehouse
DESCRIPTION:Joe Hill Coffeehouse – Save the Date! \nJoe Hill Coffeehouse is back on this date with another evening of great local talent\, community spirit\, and cozy vibes at the Miners Hall. We’re still confirming the performer lineup\, but you can expect the same warm\, welcoming atmosphere and an eclectic mix of music\, spoken word\, and more. \nMark your calendar and check back soon for full details!
URL:https://rosslandartscouncil.com/event/joe-hill-coffeehouse-4/
LOCATION:Performance Hall\, Miners’ Hall\, 1765 Columbia Ave\, Rossland\, BC\, V0G 1Y0\, Canada
CATEGORIES:Performing Arts
ATTACH;FMTTYPE=image/png:https://rosslandartscouncil.com/wp-content/uploads/2025/07/Joe-Hill.png
ORGANIZER;CN="Rossland Council for Arts & Culture":MAILTO:info@rosslandartscouncil.com
END:VEVENT
BEGIN:VEVENT
DTSTART;TZID=America/Vancouver:20260529T190000
DTEND;TZID=America/Vancouver:20260529T213000
DTSTAMP:20260421T013918
CREATED:20260226T195713Z
LAST-MODIFIED:20260409T202425Z
UID:6422-1780081200-1780090200@rosslandartscouncil.com
SUMMARY:Cara Luft
DESCRIPTION:Friday\, May 29th\, 2026📍 Rossland Miners Hall🎟 $35 Adults | $20 Youth | Free for children 5 & under \nWe are absolutely thrilled to welcome Cara Luft back to Rossland on her tour for her brand-new album My Heart Will Always Be! \nJuno award winning singer-songwriter-musician Cara Luft is one of Canada’s most respected and beloved singer-songwriters\, makes a long-anticipated return with a joyful solo album –– her first in over 13 years. Known for her warmth\, authenticity and exceptional musicianship\, Luft has won awards and amassed legions of fans captivated by her talent for pairing heart-on-your-sleeve lyricism with indelible ear-catching melodies.  Her new album\, My Heart Will Always Be\, is her most assured and personal work to date\, reaffirming her legacy as an essential voice in folk music. \nCara is that rare artist steeped in folk and traditional roots music almost from birth\, yet willing to alter the fabric\, stretch the boundaries and fearlessly bend genres and styles.  A founding member of Canadian folk super-group The Wailin’ Jennys and the brainchild behind Winnipeg’s acclaimed powerhouse duo The Small Glories\, Luft deserves her solid reputation as one of Canada’s finest live performers\, armed with amazing tenacity\, vision\, energy and a contagious hilarity. To quote the roots magazine No Depression\, “Luft has a rich tradition in folk music – it’s safe to assume that she knows her stuff – and upon listening it becomes quite clear that she is indeed a formidable songwriter and performer… [The] lovely Ms. Luft sets the bar for the talented few who’ll follow in her footsteps.” \nCara will be playing at the Rossland Miners Hall with Cranbrook’s Clayton Parsons on Friday\, May 29th\, 2026. Tickets are available below. \nYou can learn more about Cara on her website: Cara Luft \nThis show is the final show in the RCAC’s new series\, May Music & More. For more information about other shows in the series\, please visit our event page.
URL:https://rosslandartscouncil.com/event/cara-luft/
LOCATION:Performance Hall\, Miners’ Hall\, 1765 Columbia Ave\, Rossland\, BC\, V0G 1Y0\, Canada
CATEGORIES:Performance Series,Performing Arts
ATTACH;FMTTYPE=image/png:https://rosslandartscouncil.com/wp-content/uploads/2026/02/Cara-Luft.png
ORGANIZER;CN="Rossland Council for Arts & Culture":MAILTO:info@rosslandartscouncil.com
END:VEVENT
END:VCALENDAR